BEGIN:VCALENDAR
VERSION:2.0
CALSCALE:GREGORIAN
BEGIN:VEVENT
DTSTAMP:20260420T114836
DTSTART:20260508T180000
DTEND:20260508T200000
SUMMARY:Make Dumplings With Chef Lina - Cooking Class In Sacramento | Classpop!
DESCRIPTION:Event Info: https://www.localwineevents.com/view/event/make-dumplings-with-chef-lina---cooking-class-in-sacramento-classpop/1002383
LOCATION:Classy Hippie -- 3200 Broadway Sacramento, CA 95817
STATUS:CONFIRMED
SEQUENCE:0
TRANSP:OPAQUE
END:VEVENT
END:VCALENDAR
