BEGIN:VCALENDAR
VERSION:2.0
CALSCALE:GREGORIAN
BEGIN:VEVENT
DTSTAMP:20260419T114724
DTSTART:20260508T183000
DTEND:20260508T220000
SUMMARY:Jersey City Tequila And Mezcal Fest
DESCRIPTION:Event Info: https://www.localwineevents.com/view/event/jersey-city-tequila-and-mezcal-fest/1002380
LOCATION:Harborside Atrium -- 210 Hudson St Jersey City, NJ 07311
STATUS:CONFIRMED
SEQUENCE:0
TRANSP:OPAQUE
END:VEVENT
END:VCALENDAR
