BEGIN:VCALENDAR
VERSION:2.0
CALSCALE:GREGORIAN
BEGIN:VEVENT
DTSTAMP:20260419T114750
DTSTART:20260508T190000
DTEND:20260508T210000
SUMMARY:Roman Night At Eataly Ristorante
DESCRIPTION:Event Info: https://www.localwineevents.com/view/event/roman-night-at-eataly-ristorante/1002375
LOCATION:Eataly Soho -- 200 Lafayette Street New York, NY 10012
STATUS:CONFIRMED
SEQUENCE:0
TRANSP:OPAQUE
END:VEVENT
END:VCALENDAR
