BEGIN:VCALENDAR
VERSION:2.0
CALSCALE:GREGORIAN
BEGIN:VEVENT
DTSTAMP:20260422T200240
DTSTART:20260508T140000
DTEND:20260509T170000
SUMMARY:Barrel Into Spring | May 8  9
DESCRIPTION:Event Info: https://www.localwineevents.com/view/event/barrel-into-spring-may-8-9/1002372
LOCATION:Participating Wineries Across The Grand Valley -- 124 West 3rd Street Palisade, CO 81526
STATUS:CONFIRMED
SEQUENCE:0
TRANSP:OPAQUE
END:VEVENT
END:VCALENDAR
