BEGIN:VCALENDAR
VERSION:2.0
CALSCALE:GREGORIAN
BEGIN:VEVENT
DTSTAMP:20260422T163834
DTSTART:20260508T190000
DTEND:20260508T203000
SUMMARY:Clearwater Wine  Cheese Pairing Experience | Aspirations Winery
DESCRIPTION:Event Info: https://www.localwineevents.com/view/event/clearwater-wine-cheese-pairing-experience-aspirations-winery/1002371
LOCATION:Aspirations Winery -- 22041 U.S. 19 Clearwater, FL 33765
STATUS:CONFIRMED
SEQUENCE:0
TRANSP:OPAQUE
END:VEVENT
END:VCALENDAR
