BEGIN:VCALENDAR
VERSION:2.0
CALSCALE:GREGORIAN
BEGIN:VEVENT
DTSTAMP:20260422T163931
DTSTART:20260508T180000
DTEND:20260508T200000
SUMMARY:CORKS  FORKS - Italian Food  Wine Tasting
DESCRIPTION:Event Info: https://www.localwineevents.com/view/event/corks-forks---italian-food-wine-tasting/1002367
LOCATION:Italian Club of Tampa -- 1731 East 7th Avenue Tampa, FL 33605
STATUS:CONFIRMED
SEQUENCE:0
TRANSP:OPAQUE
END:VEVENT
END:VCALENDAR
