BEGIN:VCALENDAR
VERSION:2.0
CALSCALE:GREGORIAN
BEGIN:VEVENT
DTSTAMP:20260422T234112
DTSTART:20260508T180000
DTEND:20260508T210000
SUMMARY:Wine, Wick, And Wellness
DESCRIPTION:Event Info: https://www.localwineevents.com/view/event/wine-wick-and-wellness/1002366
LOCATION:23700 N Buckhill Rd -- 23700 North Buckhill Road Howey-in-the-Hills, FL 34737
STATUS:CONFIRMED
SEQUENCE:0
TRANSP:OPAQUE
END:VEVENT
END:VCALENDAR
