BEGIN:VCALENDAR
VERSION:2.0
CALSCALE:GREGORIAN
BEGIN:VEVENT
DTSTAMP:20260419T114725
DTSTART:20260508T183000
DTEND:20260508T200000
SUMMARY:Bloomy Rinds  Floral Wines!
DESCRIPTION:Event Info: https://www.localwineevents.com/view/event/bloomy-rinds-floral-wines/1002365
LOCATION:Murray\'s Cheese Shop -- 254 Bleecker Street New York, NY 10014
STATUS:CONFIRMED
SEQUENCE:0
TRANSP:OPAQUE
END:VEVENT
END:VCALENDAR
