BEGIN:VCALENDAR
VERSION:2.0
CALSCALE:GREGORIAN
BEGIN:VEVENT
DTSTAMP:20260419T114907
DTSTART:20260508T180000
DTEND:20260508T210000
SUMMARY:Mom  Me: Italian Dinner Masterclass (Mother\'s Day Edition)
DESCRIPTION:Event Info: https://www.localwineevents.com/view/event/mom-me-italian-dinner-masterclass-mothers-day-edition/1002361
LOCATION:Eataly Short Hills -- 1200 Morris Turnpike Millburn, NJ 07078
STATUS:CONFIRMED
SEQUENCE:0
TRANSP:OPAQUE
END:VEVENT
END:VCALENDAR
