BEGIN:VCALENDAR
VERSION:2.0
CALSCALE:GREGORIAN
BEGIN:VEVENT
DTSTAMP:20260420T154403
DTSTART:20260508T190000
DTEND:20260508T210000
SUMMARY:Andrew\'s Cheese And Wine Pairing Au Naturel
DESCRIPTION:Event Info: https://www.localwineevents.com/view/event/andrews-cheese-and-wine-pairing-au-naturel/1002359
LOCATION:Andrew\'s Cheese Shop -- 728 Montana Ave Santa Monica, CA 90403
STATUS:CONFIRMED
SEQUENCE:0
TRANSP:OPAQUE
END:VEVENT
END:VCALENDAR
