BEGIN:VCALENDAR
VERSION:2.0
CALSCALE:GREGORIAN
BEGIN:VEVENT
DTSTAMP:20260419T082448
DTSTART:20260508T180000
DTEND:20260508T200000
SUMMARY:Exploring The Wines Of Provence
DESCRIPTION:Event Info: https://www.localwineevents.com/view/event/exploring-the-wines-of-provence/1002358
LOCATION:Commonwealth Wine School -- 35 Dunster Street Cambridge, MA 02138
STATUS:CONFIRMED
SEQUENCE:0
TRANSP:OPAQUE
END:VEVENT
END:VCALENDAR
