BEGIN:VCALENDAR
VERSION:2.0
CALSCALE:GREGORIAN
BEGIN:VEVENT
DTSTAMP:20260420T074528
DTSTART:20260508T180000
DTEND:20260508T203000
SUMMARY:2026 Spring Wine Tasting
DESCRIPTION:Event Info: https://www.localwineevents.com/view/event/2026-spring-wine-tasting/1002357
LOCATION:The Silo -- 1071 32nd St Allegan, MI 49010
STATUS:CONFIRMED
SEQUENCE:0
TRANSP:OPAQUE
END:VEVENT
END:VCALENDAR
