BEGIN:VCALENDAR
VERSION:2.0
CALSCALE:GREGORIAN
BEGIN:VEVENT
DTSTAMP:20260420T173539
DTSTART:20260508T180000
DTEND:20260508T200000
SUMMARY:Friday Night Flights - Wine Tasting
DESCRIPTION:Event Info: https://www.localwineevents.com/view/event/friday-night-flights---wine-tasting/1002356
LOCATION:Panorama -- 14 North Front Street Philadelphia, PA 19106
STATUS:CONFIRMED
SEQUENCE:0
TRANSP:OPAQUE
END:VEVENT
END:VCALENDAR
