BEGIN:VCALENDAR
VERSION:2.0
CALSCALE:GREGORIAN
BEGIN:VEVENT
DTSTAMP:20260419T112110
DTSTART:20260508T180000
DTEND:20260508T210000
SUMMARY:Sip Me, Drink Me: A Wonderland Dinner At The Bavarian Inn Restaurant
DESCRIPTION:Event Info: https://www.localwineevents.com/view/event/sip-me-drink-me-a-wonderland-dinner-at-the-bavarian-inn-restaurant/1002352
LOCATION:Frankenmuth Bavarian Inn Restaurant -- 713 South Main Street Frankenmuth, MI 48734
STATUS:CONFIRMED
SEQUENCE:0
TRANSP:OPAQUE
END:VEVENT
END:VCALENDAR
