BEGIN:VCALENDAR
VERSION:2.0
CALSCALE:GREGORIAN
BEGIN:VEVENT
DTSTAMP:20260420T074506
DTSTART:20260508T180000
DTEND:20260508T200000
SUMMARY:Cinco De Mayo Wine  Cider Pairing Dinner
DESCRIPTION:Event Info: https://www.localwineevents.com/view/event/cinco-de-mayo-wine-cider-pairing-dinner/1002349
LOCATION:Crane\'s Pie Pantry Restaurant  Winery -- 6054 124th Avenue Fennville, MI 49408
STATUS:CONFIRMED
SEQUENCE:0
TRANSP:OPAQUE
END:VEVENT
END:VCALENDAR
