BEGIN:VCALENDAR
VERSION:2.0
CALSCALE:GREGORIAN
BEGIN:VEVENT
DTSTAMP:20260419T082448
DTSTART:20260509T130000
DTEND:20260509T150000
SUMMARY:Bully Boy Negroni  Amaro Tasting In Braintree!
DESCRIPTION:Event Info: https://www.localwineevents.com/view/event/bully-boy-negroni-amaro-tasting-in-braintree/1002348
LOCATION:Bin Ends Wine -- 236 Wood Road Braintree, MA 02184-4326
STATUS:CONFIRMED
SEQUENCE:0
TRANSP:OPAQUE
END:VEVENT
END:VCALENDAR
