BEGIN:VCALENDAR
VERSION:2.0
CALSCALE:GREGORIAN
BEGIN:VEVENT
DTSTAMP:20260420T174457
DTSTART:20260824T193000
DTEND:20260828T213000
SUMMARY:Wine Instructor Certification For The National Wine School
DESCRIPTION:Event Info: https://www.localwineevents.com/view/event/wine-instructor-certification-for-the-national-wine-school/1002347
LOCATION:Wine School of Philadelphia -- 109 S 22nd St, Philadelphia, PA 19103
STATUS:CONFIRMED
SEQUENCE:0
TRANSP:OPAQUE
END:VEVENT
END:VCALENDAR
