BEGIN:VCALENDAR
VERSION:2.0
CALSCALE:GREGORIAN
BEGIN:VEVENT
DTSTAMP:20260419T111359
DTSTART:20260517T120000
DTEND:20260517T140000
SUMMARY:Rove Into Brunch: 5 Wines + 5 Bites
DESCRIPTION:Event Info: https://www.localwineevents.com/view/event/rove-into-brunch-5-wines-5-bites/1002346
LOCATION:Michigan By The Bottle -- 29932 Woodward Ave Royal Oak, MI 48073
STATUS:CONFIRMED
SEQUENCE:0
TRANSP:OPAQUE
END:VEVENT
END:VCALENDAR
