BEGIN:VCALENDAR
VERSION:2.0
CALSCALE:GREGORIAN
BEGIN:VEVENT
DTSTAMP:20260419T111323
DTSTART:20260517T160000
DTEND:20260517T180000
SUMMARY:What Wine Are You?
DESCRIPTION:Event Info: https://www.localwineevents.com/view/event/what-wine-are-you/1002345
LOCATION:Michigan by the Bottle -- 146 S Broadway Lake Orion, MI 48362
STATUS:CONFIRMED
SEQUENCE:0
TRANSP:OPAQUE
END:VEVENT
END:VCALENDAR
