BEGIN:VCALENDAR
VERSION:2.0
CALSCALE:GREGORIAN
BEGIN:VEVENT
DTSTAMP:20260420T140657
DTSTART:20260521T183000
DTEND:20260521T203000
SUMMARY:Sip, Sail  Discover Complimentary Rhine River Preview + Wine Tasting
DESCRIPTION:Event Info: https://www.localwineevents.com/view/event/sip-sail-discover-complimentary-rhine-river-preview-wine-tasting/1002344
LOCATION:Malvern Pa - Location details provided after free registration -- King Street Restaurant TBA Malvern, PA 19355
STATUS:CONFIRMED
SEQUENCE:0
TRANSP:OPAQUE
END:VEVENT
END:VCALENDAR
