BEGIN:VCALENDAR
VERSION:2.0
CALSCALE:GREGORIAN
BEGIN:VEVENT
DTSTAMP:20260421T163034
DTSTART:20260516T120000
DTEND:20260516T160000
SUMMARY:Savor SW WA Wine Grand Tasting Event
DESCRIPTION:Event Info: https://www.localwineevents.com/view/event/savor-sw-wa-wine-grand-tasting-event/1002341
LOCATION:Savor SW WA Wine Grand Tasting -- 912 E. Main Street Battle Ground, WA 99604
STATUS:CONFIRMED
SEQUENCE:0
TRANSP:OPAQUE
END:VEVENT
END:VCALENDAR
