BEGIN:VCALENDAR
VERSION:2.0
CALSCALE:GREGORIAN
BEGIN:VEVENT
DTSTAMP:20260419T112138
DTSTART:20260521T173000
DTEND:20260521T193000
SUMMARY:Framed Resin Suncatcher Class At Sandhill Crane Vineyards
DESCRIPTION:Event Info: https://www.localwineevents.com/view/event/framed-resin-suncatcher-class-at-sandhill-crane-vineyards/1002338
LOCATION:Sandhill Crane Vineyards -- 4724 Walz Rd Jackson, Michigan 49201
STATUS:CONFIRMED
SEQUENCE:0
TRANSP:OPAQUE
END:VEVENT
END:VCALENDAR
