BEGIN:VCALENDAR
VERSION:2.0
CALSCALE:GREGORIAN
BEGIN:VEVENT
DTSTAMP:20260419T112123
DTSTART:20260518T180000
DTEND:20260518T203000
SUMMARY:Rove Winery 5-Course Wine Dinner
DESCRIPTION:Event Info: https://www.localwineevents.com/view/event/rove-winery-5-course-wine-dinner/1002337
LOCATION:Michigan By The Bottle -- 3384 Auburn Rd Auburn Hills, MI 48326
STATUS:CONFIRMED
SEQUENCE:0
TRANSP:OPAQUE
END:VEVENT
END:VCALENDAR
