BEGIN:VCALENDAR
VERSION:2.0
CALSCALE:GREGORIAN
BEGIN:VEVENT
DTSTAMP:20260424T062100
DTSTART:20260510T110000
DTEND:20260510T153000
SUMMARY:Mother\'s Day Wine  Chocolate Pairing
DESCRIPTION:Event Info: https://www.localwineevents.com/view/event/mothers-day-wine-chocolate-pairing/1002297
LOCATION:La Crema -- 3575 Slusser Road Windsor, CA 95492
STATUS:CONFIRMED
SEQUENCE:0
TRANSP:OPAQUE
END:VEVENT
END:VCALENDAR
