BEGIN:VCALENDAR
VERSION:2.0
CALSCALE:GREGORIAN
BEGIN:VEVENT
DTSTAMP:20260422T072300
DTSTART:20260523T110000
DTEND:20260523T150000
SUMMARY:Vino  Vibes
DESCRIPTION:Event Info: https://www.localwineevents.com/view/event/vino-vibes/1002293
LOCATION:Trefethen Family Vineyards -- 1160 Oak Knoll Avenue Napa, CA 94558
STATUS:CONFIRMED
SEQUENCE:0
TRANSP:OPAQUE
END:VEVENT
END:VCALENDAR
