BEGIN:VCALENDAR
VERSION:2.0
CALSCALE:GREGORIAN
BEGIN:VEVENT
DTSTAMP:20260420T113850
DTSTART:20260425T140000
DTEND:20260516T180000
SUMMARY:Saturday Sips - Whiskey, Wine And Mead
DESCRIPTION:Event Info: https://www.localwineevents.com/view/event/saturday-sips---whiskey-wine-and-mead/1002290
LOCATION:Woodstone Creek Winery  Distillery -- 4712 Vine Street Cincinnati, Ohio 45217
STATUS:CONFIRMED
SEQUENCE:0
TRANSP:OPAQUE
END:VEVENT
END:VCALENDAR
