BEGIN:VCALENDAR
VERSION:2.0
CALSCALE:GREGORIAN
BEGIN:VEVENT
DTSTAMP:20260419T114624
DTSTART:20260518T193000
DTEND:20260518T203000
SUMMARY:Rhne Valley - 7:30pm
DESCRIPTION:Event Info: https://www.localwineevents.com/view/event/rhne-valley---730pm/1002289
LOCATION:Wine Boot Camp -- 249 Centre Street New York, NY 10013
STATUS:CONFIRMED
SEQUENCE:0
TRANSP:OPAQUE
END:VEVENT
END:VCALENDAR
