BEGIN:VCALENDAR
VERSION:2.0
CALSCALE:GREGORIAN
BEGIN:VEVENT
DTSTAMP:20260420T175700
DTSTART:20260502T120000
DTEND:20260502T133000
SUMMARY:Paella Lunch @ Diamond Road Music Festival By JLF Feat. Tom Drinnon
DESCRIPTION:Event Info: https://www.localwineevents.com/view/event/paella-lunch-diamond-road-music-festival-by-jlf-feat-tom-drinnon/1002288
LOCATION:Six Sigma Ranch and Winery -- 13372 Spruce Grove Road Lower Lake, CA 95457
STATUS:CONFIRMED
SEQUENCE:0
TRANSP:OPAQUE
END:VEVENT
END:VCALENDAR
