BEGIN:VCALENDAR
VERSION:2.0
CALSCALE:GREGORIAN
BEGIN:VEVENT
DTSTAMP:20260420T175542
DTSTART:20260425T120000
DTEND:20260425T150000
SUMMARY:Bubbles, Burgers, And Beats Feat Mark Weston Band
DESCRIPTION:Event Info: https://www.localwineevents.com/view/event/bubbles-burgers-and-beats-feat-mark-weston-band/1002287
LOCATION:Six Sigma Ranch and Winery -- 13372 Spruce Grove Road Lower Lake, CA 95457
STATUS:CONFIRMED
SEQUENCE:0
TRANSP:OPAQUE
END:VEVENT
END:VCALENDAR
