BEGIN:VCALENDAR
VERSION:2.0
CALSCALE:GREGORIAN
BEGIN:VEVENT
DTSTAMP:20260424T062100
DTSTART:20260510T113000
DTEND:20260510T143000
SUMMARY:Mothers Day Tea
DESCRIPTION:Event Info: https://www.localwineevents.com/view/event/mothers-day-tea/1002276
LOCATION:McEvoy Ranch -- 5935 Red Hill Road Petaluma, CA 94952
STATUS:CONFIRMED
SEQUENCE:0
TRANSP:OPAQUE
END:VEVENT
END:VCALENDAR
