BEGIN:VCALENDAR
VERSION:2.0
CALSCALE:GREGORIAN
BEGIN:VEVENT
DTSTAMP:20260424T062058
DTSTART:20260502T113000
DTEND:20260502T143000
SUMMARY:2026 Spring Fling
DESCRIPTION:Event Info: https://www.localwineevents.com/view/event/2026-spring-fling/1002273
LOCATION:Crocker  Starr Winery -- 700 DOWDELL LN St. Helena, CA 94574
STATUS:CONFIRMED
SEQUENCE:0
TRANSP:OPAQUE
END:VEVENT
END:VCALENDAR
