BEGIN:VCALENDAR
VERSION:2.0
CALSCALE:GREGORIAN
BEGIN:VEVENT
DTSTAMP:20260424T062058
DTSTART:20260906T120000
DTEND:20260906T150000
SUMMARY:Carnivus Maximus XXVI: 30th Harvest Celebration
DESCRIPTION:Event Info: https://www.localwineevents.com/view/event/carnivus-maximus-xxvi-30th-harvest-celebration/1002272
LOCATION:Crocker  Starr Winery -- 700 DOWDELL LN St. Helena, CA 94574
STATUS:CONFIRMED
SEQUENCE:0
TRANSP:OPAQUE
END:VEVENT
END:VCALENDAR
