BEGIN:VCALENDAR
VERSION:2.0
CALSCALE:GREGORIAN
BEGIN:VEVENT
DTSTAMP:20260424T062058
DTSTART:20260726T103000
DTEND:20260726T120000
SUMMARY:Bella Brunch Bites  Flights
DESCRIPTION:Event Info: https://www.localwineevents.com/view/event/bella-brunch-bites-flights/1002271
LOCATION:Bella Union Winery -- 1695 Saint Helena Highway St. Helena, CA 94574
STATUS:CONFIRMED
SEQUENCE:0
TRANSP:OPAQUE
END:VEVENT
END:VCALENDAR
