BEGIN:VCALENDAR
VERSION:2.0
CALSCALE:GREGORIAN
BEGIN:VEVENT
DTSTAMP:20260419T114623
DTSTART:20260518T180000
DTEND:20260518T190000
SUMMARY:Ros - 6pm
DESCRIPTION:Event Info: https://www.localwineevents.com/view/event/ros---6pm/1002265
LOCATION:Wine Boot Camp -- 249 Centre Street New York, NY 10013
STATUS:CONFIRMED
SEQUENCE:0
TRANSP:OPAQUE
END:VEVENT
END:VCALENDAR
