BEGIN:VCALENDAR
VERSION:2.0
CALSCALE:GREGORIAN
BEGIN:VEVENT
DTSTAMP:20260419T114621
DTSTART:20260513T180000
DTEND:20260513T190000
SUMMARY:Italy VS France - 6pm
DESCRIPTION:Event Info: https://www.localwineevents.com/view/event/italy-vs-france---6pm/1002264
LOCATION:Wine Boot Camp -- 249 Centre Street New York, NY 10013
STATUS:CONFIRMED
SEQUENCE:0
TRANSP:OPAQUE
END:VEVENT
END:VCALENDAR
