BEGIN:VCALENDAR
VERSION:2.0
CALSCALE:GREGORIAN
BEGIN:VEVENT
DTSTAMP:20260419T114724
DTSTART:20260423T170000
DTEND:20260423T070000
SUMMARY:California Wine Showdown
DESCRIPTION:Event Info: https://www.localwineevents.com/view/event/california-wine-showdown/1002261
LOCATION:Empire State of Wine -- 61 West 23rd Street New York, NY 10010
STATUS:CONFIRMED
SEQUENCE:0
TRANSP:OPAQUE
END:VEVENT
END:VCALENDAR
