BEGIN:VCALENDAR
VERSION:2.0
CALSCALE:GREGORIAN
BEGIN:VEVENT
DTSTAMP:20260422T232904
DTSTART:20260507T180000
DTEND:20260507T200000
SUMMARY:Watercolor  Wine
DESCRIPTION:Event Info: https://www.localwineevents.com/view/event/watercolor-wine/1002260
LOCATION:The Capen House at the Polasek -- 633 Osceola Avenue Winter Park, FL 32789
STATUS:CONFIRMED
SEQUENCE:0
TRANSP:OPAQUE
END:VEVENT
END:VCALENDAR
