BEGIN:VCALENDAR
VERSION:2.0
CALSCALE:GREGORIAN
BEGIN:VEVENT
DTSTAMP:20260420T144637
DTSTART:20260507T183000
DTEND:20260507T200000
SUMMARY:Pastures And Peaks:  Tasting The Cheeses Of Summer
DESCRIPTION:Event Info: https://www.localwineevents.com/view/event/pastures-and-peaks-tasting-the-cheeses-of-summer/1002259
LOCATION:The Cheese Table -- 125 West Wisconsin Avenue Neenah, WI 54956
STATUS:CONFIRMED
SEQUENCE:0
TRANSP:OPAQUE
END:VEVENT
END:VCALENDAR
