BEGIN:VCALENDAR
VERSION:2.0
CALSCALE:GREGORIAN
BEGIN:VEVENT
DTSTAMP:20260421T162958
DTSTART:20260507T170000
DTEND:20260507T190000
SUMMARY:Make Ravioli And Tortellini With Chef Jimmy - Pasta Making Cooking Class In Portland | Classpop!
DESCRIPTION:Event Info: https://www.localwineevents.com/view/event/make-ravioli-and-tortellini-with-chef-jimmy---pasta-making-cooking-class-in-portland-classpop/1002257
LOCATION:Threshold Brewing -- 403 SE 79th Ave, Portland, Oregon 97215 Portland, OR 97204
STATUS:CONFIRMED
SEQUENCE:0
TRANSP:OPAQUE
END:VEVENT
END:VCALENDAR
