BEGIN:VCALENDAR
VERSION:2.0
CALSCALE:GREGORIAN
BEGIN:VEVENT
DTSTAMP:20260421T161708
DTSTART:20260507T183000
DTEND:20260507T203000
SUMMARY:In-Person Class: Authentic Handmade Dumplings  (Portland)
DESCRIPTION:Event Info: https://www.localwineevents.com/view/event/in-person-class-authentic-handmade-dumplings-portland/1002255
LOCATION:Moxy Portland Downtown -- 585 Southwest 10th Avenue Portland, OR 97205
STATUS:CONFIRMED
SEQUENCE:0
TRANSP:OPAQUE
END:VEVENT
END:VCALENDAR
