BEGIN:VCALENDAR
VERSION:2.0
CALSCALE:GREGORIAN
BEGIN:VEVENT
DTSTAMP:20260420T115652
DTSTART:20260507T180000
DTEND:20260507T190000
SUMMARY:Kaysville Charcuterie Building With Kneaders
DESCRIPTION:Event Info: https://www.localwineevents.com/view/event/kaysville-charcuterie-building-with-kneaders/1002254
LOCATION:Kneaders Bakery  Cafe -- 1324 West 200 North Kaysville, UT 84037
STATUS:CONFIRMED
SEQUENCE:0
TRANSP:OPAQUE
END:VEVENT
END:VCALENDAR
