BEGIN:VCALENDAR
VERSION:2.0
CALSCALE:GREGORIAN
BEGIN:VEVENT
DTSTAMP:20260420T154403
DTSTART:20260507T190000
DTEND:20260507T203000
SUMMARY:Old Fashioned Cocktail Class | Hosted By: Wille\'s Tin Shop
DESCRIPTION:Event Info: https://www.localwineevents.com/view/event/old-fashioned-cocktail-class-hosted-by-willes-tin-shop/1002251
LOCATION:Wille\'s Tin Shop -- 1115 East Wardlow Road Long Beach, CA 90807
STATUS:CONFIRMED
SEQUENCE:0
TRANSP:OPAQUE
END:VEVENT
END:VCALENDAR
