BEGIN:VCALENDAR
VERSION:2.0
CALSCALE:GREGORIAN
BEGIN:VEVENT
DTSTAMP:20260420T104047
DTSTART:20260507T160000
DTEND:20260507T200000
SUMMARY:Wild Bill\'s Smokehouse Social  - Cigars, Bourbon, And BBQ
DESCRIPTION:Event Info: https://www.localwineevents.com/view/event/wild-bills-smokehouse-social---cigars-bourbon-and-bbq/1002248
LOCATION:Wild Bill\'s Tobacco -- 5280 Northland Drive Northeast Grand Rapids, MI 49525
STATUS:CONFIRMED
SEQUENCE:0
TRANSP:OPAQUE
END:VEVENT
END:VCALENDAR
