BEGIN:VCALENDAR
VERSION:2.0
CALSCALE:GREGORIAN
BEGIN:VEVENT
DTSTAMP:20260422T164626
DTSTART:20260507T190000
DTEND:20260507T210000
SUMMARY:The Art Of Caviar: A Champagne  Caviar Tasting For Mothers Day
DESCRIPTION:Event Info: https://www.localwineevents.com/view/event/the-art-of-caviar-a-champagne-caviar-tasting-for-mothers-day/1002247
LOCATION:Chef  the Baker South Tampa -- 3413 South Manhattan Avenue Tampa, FL 33629
STATUS:CONFIRMED
SEQUENCE:0
TRANSP:OPAQUE
END:VEVENT
END:VCALENDAR
