BEGIN:VCALENDAR
VERSION:2.0
CALSCALE:GREGORIAN
BEGIN:VEVENT
DTSTAMP:20260420T154439
DTSTART:20260507T200000
DTEND:20260507T210000
SUMMARY:Seven Grand Whiskey Tasting Featuring: Smokeye Hill
DESCRIPTION:Event Info: https://www.localwineevents.com/view/event/seven-grand-whiskey-tasting-featuring-smokeye-hill/1002246
LOCATION:Seven Grand -- 515 West 7th Street Los Angeles, CA 90014
STATUS:CONFIRMED
SEQUENCE:0
TRANSP:OPAQUE
END:VEVENT
END:VCALENDAR
