BEGIN:VCALENDAR
VERSION:2.0
CALSCALE:GREGORIAN
BEGIN:VEVENT
DTSTAMP:20260419T114709
DTSTART:20260507T183000
DTEND:20260507T200000
SUMMARY:Curd Nerds! Cheese 101
DESCRIPTION:Event Info: https://www.localwineevents.com/view/event/curd-nerds-cheese-101/1002231
LOCATION:Murray\'s Cheese Shop -- 254 Bleecker Street New York, NY 10014
STATUS:CONFIRMED
SEQUENCE:0
TRANSP:OPAQUE
END:VEVENT
END:VCALENDAR
