BEGIN:VCALENDAR
VERSION:2.0
CALSCALE:GREGORIAN
BEGIN:VEVENT
DTSTAMP:20260420T115653
DTSTART:20260507T180000
DTEND:20260507T190000
SUMMARY:Draper Charcuterie Building With Kneaders
DESCRIPTION:Event Info: https://www.localwineevents.com/view/event/draper-charcuterie-building-with-kneaders/1002210
LOCATION:Kneaders Bakery  Cafe -- 177 East 13800 South Draper, UT 84020
STATUS:CONFIRMED
SEQUENCE:0
TRANSP:OPAQUE
END:VEVENT
END:VCALENDAR
