BEGIN:VCALENDAR
VERSION:2.0
CALSCALE:GREGORIAN
BEGIN:VEVENT
DTSTAMP:20260419T114558
DTSTART:20260507T183000
DTEND:20260507T203000
SUMMARY:Hands-On: Pasta Alla Carbonara
DESCRIPTION:Event Info: https://www.localwineevents.com/view/event/hands-on-pasta-alla-carbonara/1002201
LOCATION:Eataly NYC Downtown -- 101 Liberty Street New York, NY 10007
STATUS:CONFIRMED
SEQUENCE:0
TRANSP:OPAQUE
END:VEVENT
END:VCALENDAR
