BEGIN:VCALENDAR
VERSION:2.0
CALSCALE:GREGORIAN
BEGIN:VEVENT
DTSTAMP:20260419T114621
DTSTART:20260507T190000
DTEND:20260507T203000
SUMMARY:Wine, Explained: A Guided Tasting With Demby\'s Supper Club
DESCRIPTION:Event Info: https://www.localwineevents.com/view/event/wine-explained-a-guided-tasting-with-dembys-supper-club/1002198
LOCATION:Liz\'s Book Bar -- 315 Smith Street Brooklyn, NY 11231
STATUS:CONFIRMED
SEQUENCE:0
TRANSP:OPAQUE
END:VEVENT
END:VCALENDAR
