BEGIN:VCALENDAR
VERSION:2.0
CALSCALE:GREGORIAN
BEGIN:VEVENT
DTSTAMP:20260424T062102
DTSTART:20260507T180000
DTEND:20260507T200000
SUMMARY:Hands-On Pasta Making: Lasagna Alla Bolognese
DESCRIPTION:Event Info: https://www.localwineevents.com/view/event/hands-on-pasta-making-lasagna-alla-bolognese/1002196
LOCATION:Eataly Silicon Valley -- 2855 Stevens Creek Boulevard San Jose, CA 95128
STATUS:CONFIRMED
SEQUENCE:0
TRANSP:OPAQUE
END:VEVENT
END:VCALENDAR
